BEGIN:VCALENDAR
VERSION:2.0
PRODID:-//Library Market//iCal Export//EN
BEGIN:VEVENT
SUMMARY:Surprise Mom with a Book Fundraiser
UID:4776
DTSTAMP:20260425T120700Z
DTSTART:20260429T140000Z
DTEND:20260429T223000Z
LOCATION:200 E. Wiley, Star City, AR 71667, United States
ROOM: Star City Adult Area
DESCRIPTION:Coming back by popular demand in May: Surprise Mom with a Book
 ! Right on time for Mother&#039;s Day! Pick up a surprise book pack as a g
 ift for your favorite mom, grandma, sister, aunt, cousin, friend, etc. Or 
 spoil yourself!All book packs include a paperback or hardcover book, booki
 sh stickers, a reading list, cute greenery for deco, and a pretty bookmark
 . All proceeds benefit our Summer Reading Program for the kids - we still 
 need to raise some money for it. Support our summer kids while surprising 
 your mom with a cute bookish gift!The packs will be available starting Apr
 il 27th, till supplies last. We made 40 packs to start with.Any questions?
  Contact us at 628-4711.
URL:https://www.searlibrary.org/event/surprise-mom-book-fundraiser-4776
END:VEVENT
END:VCALENDAR
