BEGIN:VCALENDAR
VERSION:2.0
PRODID:-//Library Market//iCal Export//EN
BEGIN:VEVENT
SUMMARY:Libraries with Heart Health Class
UID:4769
DTSTAMP:20260424T113500Z
DTSTART:20260717T163000Z
DTEND:20260717T173000Z
LOCATION:200 E. Wiley, Star City, AR 71667, United States
ROOM: Star City Adult Area
DESCRIPTION:How healthy is your heart? Join us on Friday, July 17th, 11:30
 am-12:30pm for a casual information event, focusing on CPR. The folks from
  the American Heart Association will answer all your questions on how to k
 eep your heart healthy and have a hands-on CPR demonstration. This event 
 is free and open to the public. Everybody is welcome to stop by. You don&#
 039;t have to plan on staying the whole hour - dropping in on your lunch b
 reak is totally fine.Any questions? Contact us at 628-4711
URL:https://www.searlibrary.org/event/libraries-heart-health-class-4769
END:VEVENT
END:VCALENDAR
