BEGIN:VCALENDAR
VERSION:2.0
PRODID:-//Library Market//iCal Export//EN
BEGIN:VEVENT
SUMMARY:Libraries with Heart Health Class
UID:4768
DTSTAMP:20260424T095600Z
DTSTART:20260626T163000Z
DTEND:20260626T173000Z
LOCATION:200 E. Wiley, Star City, AR 71667, United States
ROOM: Star City Adult Area
DESCRIPTION:How healthy is your heart? Join us on Friday, June 26th, 11:30
 am-12:30pm for a casual information event, focusing on heart attacks. The 
 folks from the American Heart Association will answer all your questions o
 n how to keep your heart healthy. This event is free and open to the publ
 ic. Everybody is welcome to stop by. You don&#039;t have to plan on stayin
 g the whole hour - dropping in on your lunch break is totally fine.Any que
 stions? Contact us at 628-4711
URL:https://www.searlibrary.org/event/libraries-heart-health-class-4768
END:VEVENT
END:VCALENDAR
