BEGIN:VCALENDAR
VERSION:2.0
PRODID:-//Library Market//iCal Export//EN
BEGIN:VEVENT
SUMMARY:Libraries with Heart Health Class
UID:4766
DTSTAMP:20260424T081500Z
DTSTART:20260528T163000Z
DTEND:20260528T173000Z
LOCATION:200 E. Wiley, Star City, AR 71667, United States
ROOM: Star City Adult Area
DESCRIPTION:How healthy is your heart? Join us on Thursday, May 28th, 11:3
 0am-12:30pm for a casual information event, focusing on diabetes and heart
  health. The folks from the American Heart Association will answer all you
 r questions on how to keep your heart healthy. This event is free and ope
 n to the public. Everybody is welcome to stop by. You don&#039;t have to p
 lan on staying the whole hour - dropping in on your lunch break is totally
  fine.Any questions? Contact us at 628-4711
URL:https://www.searlibrary.org/event/libraries-heart-health-class-4766
END:VEVENT
END:VCALENDAR
