BEGIN:VCALENDAR
VERSION:2.0
PRODID:-//Library Market//iCal Export//EN
BEGIN:VEVENT
SUMMARY:Libraries with Heart Health Class
UID:4765
DTSTAMP:20260424T113500Z
DTSTART:20260514T163000Z
DTEND:20260514T173000Z
LOCATION:200 E. Wiley, Star City, AR 71667, United States
ROOM: Star City Adult Area
DESCRIPTION:How healthy is your heart? Join us on Thursday, May 14th, 11:3
 0am-12:30pm for a casual information event, focusing on stroke prevention.
  The folks from the American Heart Association will answer all your questi
 ons on how to keep your heart healthy. This event is free and open to the
  public. Everybody is welcome to stop by. You don&#039;t have to plan on s
 taying the whole hour - dropping in on your lunch break is totally fine.An
 y questions? Contact us at 628-4711
URL:https://www.searlibrary.org/event/libraries-heart-health-class-4765
END:VEVENT
END:VCALENDAR
