BEGIN:VCALENDAR
VERSION:2.0
PRODID:-//Library Market//iCal Export//EN
BEGIN:VEVENT
SUMMARY:Libraries with Heart Health Class
UID:4743
DTSTAMP:20260419T123700Z
DTSTART:20260423T163000Z
DTEND:20260423T173000Z
LOCATION:200 E. Wiley, Star City, AR 71667, United States
ROOM: Star City Adult Area
DESCRIPTION:How healthy is your heart? Join us on Thursday, April 23rd, 11
 :30am-12:30pm for a casual information event, focusing on blood pressure h
 ealth. The folks from the American Heart Association will give out free bl
 ood pressure monitors and answer all your questions on how to keep your he
 art healthy. This event is free and open to the public. Everybody is welc
 ome to stop by. You don&#039;t have to plan on staying the whole hour - dr
 opping in on your lunch break is totally fine.Any questions? Contact us at
  628-4711
URL:https://www.searlibrary.org/event/libraries-heart-blood-pressure-class
 -4743
END:VEVENT
END:VCALENDAR
