BEGIN:VCALENDAR
VERSION:2.0
PRODID:-//Library Market//iCal Export//EN
BEGIN:VEVENT
SUMMARY:Meeting Room Reservation-Autism awareness and information
UID:4712
DTSTAMP:20260422T035100Z
DTSTART:20260425T150000Z
DTEND:20260425T170000Z
LOCATION:114 W. Jefferson Avenue, Monticello, AR 71655, United States
ROOM: Monticello Meeting Room
DESCRIPTION:The purpose of the meeting is to host an autism awareness even
 t. Families that have autistic children and family members will speak abou
 t their experiences. Representatives from other nonprofit groups in town w
 ill also be present to talk about the services they provide for autistic f
 amilies in our local community.
URL:https://www.searlibrary.org/event/meeting-room-reservation-4712
END:VEVENT
END:VCALENDAR
